BEGIN:VCALENDAR
VERSION:2.0
PRODID:-//CROss Alliance - ECPv5.14.0.2//NONSGML v1.0//EN
CALSCALE:GREGORIAN
METHOD:PUBLISH
X-WR-CALNAME:CROss Alliance
X-ORIGINAL-URL:https://www.croalliance.com
X-WR-CALDESC:Eventi per CROss Alliance
BEGIN:VTIMEZONE
TZID:Europe/Rome
BEGIN:DAYLIGHT
TZOFFSETFROM:+0100
TZOFFSETTO:+0200
TZNAME:CEST
DTSTART:20190331T010000
END:DAYLIGHT
BEGIN:STANDARD
TZOFFSETFROM:+0200
TZOFFSETTO:+0100
TZNAME:CET
DTSTART:20191027T010000
END:STANDARD
END:VTIMEZONE
BEGIN:VEVENT
DTSTART;VALUE=DATE:20191111
DTEND;VALUE=DATE:20191112
DTSTAMP:20260425T023701
CREATED:20190903T090941Z
LAST-MODIFIED:20191021T101335Z
UID:1856-1573430400-1573516799@www.croalliance.com
SUMMARY:European Statistical Forum 2019
DESCRIPTION:Two representatives of CROss Alliance’ Biometry Unit will attend this year’s edition of the ESF Conference on “Statistical Methodology for the Assessment and Analysis of Risk and Safety Data in Clinical Development”. \nHave a look at the agenda here. \nFor scheduling a meeting with Alessandra Gentili\, Biometry Unit Head\, write an email to corporate@croalliance.com. We hope to meet you there!
URL:https://www.croalliance.com/event/european-statistical-forum-2019/
LOCATION:Rome
END:VEVENT
END:VCALENDAR