BEGIN:VCALENDAR
VERSION:2.0
PRODID:-//CROss Alliance - ECPv5.14.0.2//NONSGML v1.0//EN
CALSCALE:GREGORIAN
METHOD:PUBLISH
X-WR-CALNAME:CROss Alliance
X-ORIGINAL-URL:https://www.croalliance.com
X-WR-CALDESC:Eventi per CROss Alliance
BEGIN:VTIMEZONE
TZID:Europe/Rome
BEGIN:DAYLIGHT
TZOFFSETFROM:+0100
TZOFFSETTO:+0200
TZNAME:CEST
DTSTART:20250330T010000
END:DAYLIGHT
BEGIN:STANDARD
TZOFFSETFROM:+0200
TZOFFSETTO:+0100
TZNAME:CET
DTSTART:20251026T010000
END:STANDARD
END:VTIMEZONE
BEGIN:VEVENT
DTSTART;VALUE=DATE:20251013
DTEND;VALUE=DATE:20251015
DTSTAMP:20260421T184552
CREATED:20250305T104356Z
LAST-MODIFIED:20250908T120846Z
UID:4014-1760313600-1760486399@www.croalliance.com
SUMMARY:Nordic Life Science Days 2025
DESCRIPTION:We are pleased to announce CROSS’ participation as exhibitor at the biggest Nordic pharma science event: the NLS 2025 in Gothenburg. Following the success of the previous edition\, we will be sharing a booth with Anapath Research for the second consecutive year. \nCome to visit us at booth N° B05:20\, we look forward to seeing you there! \nFor event program and registration visit Home – NLSDays
URL:https://www.croalliance.com/event/nordic-life-science-days-2025/
LOCATION:Gothenburg
END:VEVENT
END:VCALENDAR