BEGIN:VCALENDAR
VERSION:2.0
PRODID:-//CROss Alliance - ECPv5.14.0.2//NONSGML v1.0//EN
CALSCALE:GREGORIAN
METHOD:PUBLISH
X-WR-CALNAME:CROss Alliance
X-ORIGINAL-URL:https://www.croalliance.com
X-WR-CALDESC:Eventi per CROss Alliance
BEGIN:VTIMEZONE
TZID:Europe/Rome
BEGIN:DAYLIGHT
TZOFFSETFROM:+0100
TZOFFSETTO:+0200
TZNAME:CEST
DTSTART:20190331T010000
END:DAYLIGHT
BEGIN:STANDARD
TZOFFSETFROM:+0200
TZOFFSETTO:+0100
TZNAME:CET
DTSTART:20191027T010000
END:STANDARD
END:VTIMEZONE
BEGIN:VEVENT
DTSTART;VALUE=DATE:20190910
DTEND;VALUE=DATE:20190913
DTSTAMP:20260424T215349
CREATED:20190215T132557Z
LAST-MODIFIED:20191018T124422Z
UID:1372-1568073600-1568332799@www.croalliance.com
SUMMARY:Nordic Life Science Days
DESCRIPTION:CROss Alliance® renews its presence at the NLS Days attending the event as Exhibitor\, we would be pleased to welcome you at our stand N° 36. \nLearn more
URL:https://www.croalliance.com/event/nordic-life-science-days/
LOCATION:Malmö
END:VEVENT
END:VCALENDAR