BEGIN:VCALENDAR
VERSION:2.0
PRODID:-//CROss Alliance - ECPv5.14.0.2//NONSGML v1.0//EN
CALSCALE:GREGORIAN
METHOD:PUBLISH
X-WR-CALNAME:CROss Alliance
X-ORIGINAL-URL:https://www.croalliance.com
X-WR-CALDESC:Eventi per CROss Alliance
BEGIN:VTIMEZONE
TZID:Europe/Rome
BEGIN:DAYLIGHT
TZOFFSETFROM:+0100
TZOFFSETTO:+0200
TZNAME:CEST
DTSTART:20190331T010000
END:DAYLIGHT
BEGIN:STANDARD
TZOFFSETFROM:+0200
TZOFFSETTO:+0100
TZNAME:CET
DTSTART:20191027T010000
END:STANDARD
END:VTIMEZONE
BEGIN:VEVENT
DTSTART;VALUE=DATE:20190507
DTEND;VALUE=DATE:20190508
DTSTAMP:20260425T011459
CREATED:20190329T144447Z
LAST-MODIFIED:20191018T124532Z
UID:1440-1557187200-1557273599@www.croalliance.com
SUMMARY:Swiss Biotech Day
DESCRIPTION:CROss Alliance® will be present at the 2019 SBD\, the annual get-together of the Swiss bio­pharmaceutical industry. \nThe event targets Pharmaceutical investors\, researchers\, analysts and industry decision makers and has become the most relevant pharma business foyer in Switzerland. \nJoin us at booth 40 for a chat on your clinical programme needs and the possibilities of collaboration\, or contact us at ursula.herranz@croalliance.com \nSee you in Basel! \nLearn More
URL:https://www.croalliance.com/event/swiss-biotech-day/
LOCATION:Basel
END:VEVENT
END:VCALENDAR